BEGIN:VCALENDAR
VERSION:2.0
PRODID:-//Eastside Neighborhood Association - ECPv6.15.20//NONSGML v1.0//EN
CALSCALE:GREGORIAN
METHOD:PUBLISH
X-WR-CALNAME:Eastside Neighborhood Association
X-ORIGINAL-URL:https://eastside-olympia.org
X-WR-CALDESC:Events for Eastside Neighborhood Association
REFRESH-INTERVAL;VALUE=DURATION:PT1H
X-Robots-Tag:noindex
X-PUBLISHED-TTL:PT1H
BEGIN:VTIMEZONE
TZID:America/Vancouver
BEGIN:DAYLIGHT
TZOFFSETFROM:-0800
TZOFFSETTO:-0700
TZNAME:PDT
DTSTART:20250309T100000
END:DAYLIGHT
BEGIN:STANDARD
TZOFFSETFROM:-0700
TZOFFSETTO:-0800
TZNAME:PST
DTSTART:20251102T090000
END:STANDARD
BEGIN:DAYLIGHT
TZOFFSETFROM:-0800
TZOFFSETTO:-0700
TZNAME:PDT
DTSTART:20260308T100000
END:DAYLIGHT
BEGIN:STANDARD
TZOFFSETFROM:-0700
TZOFFSETTO:-0800
TZNAME:PST
DTSTART:20261101T090000
END:STANDARD
BEGIN:DAYLIGHT
TZOFFSETFROM:-0800
TZOFFSETTO:-0700
TZNAME:PDT
DTSTART:20270314T100000
END:DAYLIGHT
BEGIN:STANDARD
TZOFFSETFROM:-0700
TZOFFSETTO:-0800
TZNAME:PST
DTSTART:20271107T090000
END:STANDARD
END:VTIMEZONE
BEGIN:VEVENT
DTSTART;TZID=America/Vancouver:20260627T170000
DTEND;TZID=America/Vancouver:20260627T190000
DTSTAMP:20260421T210948
CREATED:20260415T014544Z
LAST-MODIFIED:20260415T025427Z
UID:3670-1782579600-1782586800@eastside-olympia.org
SUMMARY:Block Parties
DESCRIPTION:Scattered across the neighborhood.
URL:https://eastside-olympia.org/event/block-parties/
CATEGORIES:Neighborhood Social
END:VEVENT
BEGIN:VEVENT
DTSTART;VALUE=DATE:20260801
DTEND;VALUE=DATE:20260802
DTSTAMP:20260421T210949
CREATED:20260415T025708Z
LAST-MODIFIED:20260415T025708Z
UID:3675-1785542400-1785628799@eastside-olympia.org
SUMMARY:Emergency Preparedness Fair
DESCRIPTION:Come meet your neighbors and get prepared for emergency situations. CPR Training\, Emergency Kit Making and Skill Map your Block.
URL:https://eastside-olympia.org/event/emergency-preparedness-fair/
LOCATION:Lions Park\, 800 Wilson St SE\, Olympia\, WA\, 98501\, United States
CATEGORIES:Neighborhood Social
END:VEVENT
BEGIN:VEVENT
DTSTART;TZID=America/Vancouver:20260804T170000
DTEND;TZID=America/Vancouver:20260804T220000
DTSTAMP:20260421T210949
CREATED:20260415T014358Z
LAST-MODIFIED:20260415T014358Z
UID:3668-1785862800-1785880800@eastside-olympia.org
SUMMARY:National Night Out
DESCRIPTION:
URL:https://eastside-olympia.org/event/national-night-out/
CATEGORIES:Neighborhood Social
END:VEVENT
BEGIN:VEVENT
DTSTART;TZID=America/Vancouver:20260829T120000
DTEND;TZID=America/Vancouver:20260829T200000
DTSTAMP:20260421T210949
CREATED:20260415T030013Z
LAST-MODIFIED:20260415T030013Z
UID:3677-1788004800-1788033600@eastside-olympia.org
SUMMARY:Porchfest Eastside Edition
DESCRIPTION:Wander the neighborhood and find amazing musicians performing on porches throughout the neighborhood. Will be Pearl Jam be performing? The ghost of Kurt? Come find out!
URL:https://eastside-olympia.org/event/porchfest-eastside-edition/
CATEGORIES:Neighborhood Social
END:VEVENT
BEGIN:VEVENT
DTSTART;TZID=America/Vancouver:20260926T140000
DTEND;TZID=America/Vancouver:20260926T180000
DTSTAMP:20260421T210949
CREATED:20260415T014108Z
LAST-MODIFIED:20260415T014108Z
UID:3664-1790431200-1790445600@eastside-olympia.org
SUMMARY:Annual Picnic and Fall Festival
DESCRIPTION:Join us at Lions Park for the neighborhoods annual picnic and fall festival. From the delicious potluck BBQ\, the apple pressing and live music\, it is an gathering you will not want to miss!
URL:https://eastside-olympia.org/event/annual-picnic-and-fall-festival/
END:VEVENT
END:VCALENDAR